BEGIN:VCALENDAR
VERSION:2.0
PRODID:-//Tukios.com/
BEGIN:VEVENT
UID:4b925499-5fee-46a9-bdf2-72f510d76535@www.ardoinfuneralhome.com
DTSTAMP:20260423T044940Z
DTSTART:20260425T140000Z
DTEND:20260425T160000Z
SUMMARY:Visitation
DESCRIPTION:
URL:https://www.ardoinfuneralhome.com/obituaries/ella-slate
LOCATION:Progressive Church of God in Christ 712 8th Street  Oberlin LA 
	70655
GEO:30.6091326;-92.7575349
END:VEVENT
END:VCALENDAR