BEGIN:VCALENDAR
VERSION:2.0
PRODID:-//Tukios.com/
BEGIN:VEVENT
UID:5c765003-0006-4f8a-b6d8-588037630ab2@www.ardoinfuneralhome.com
DTSTAMP:20260423T045003Z
DTSTART:20260425T160000Z
DTEND:20260425T170000Z
SUMMARY:Celebration of Life
DESCRIPTION:
URL:https://www.ardoinfuneralhome.com/obituaries/ella-slate
LOCATION:Progressive Church of God in Christ 712 8th Street  Oberlin LA 
	70655
GEO:30.6091326;-92.7575349
END:VEVENT
END:VCALENDAR