BEGIN:VCALENDAR
VERSION:2.0
PRODID:-//Tukios.com/
BEGIN:VEVENT
UID:ea5dc52f-0523-49cd-ae44-6dd79874eb92@www.ardoinfuneralhome.com
DTSTAMP:20260420T053937Z
DTSTART:20260422T130000Z
DTEND:20260422T160000Z
SUMMARY:Visitation
DESCRIPTION:
URL:https://www.ardoinfuneralhome.com/obituaries/david-dave-marcantel
LOCATION:Ardoin/Allen Parish Funeral Home of Kinder 432 North 8th Street  
	Kinder LA 70648
GEO:30.4882543;-92.8498617
END:VEVENT
END:VCALENDAR