BEGIN:VCALENDAR
VERSION:2.0
PRODID:-//Tukios.com/
BEGIN:VEVENT
UID:432f4ff6-33f1-4d0b-a0c6-e9a8761ac366@www.ardoinfuneralhome.com
DTSTAMP:20260420T053656Z
DTSTART:20260421T210000Z
DTEND:20260422T020000Z
SUMMARY:Visitation
DESCRIPTION:
URL:https://www.ardoinfuneralhome.com/obituaries/david-dave-marcantel
LOCATION: 432 North 8th Street  Kinder LA 70648
GEO:30.4882543;-92.8498617
END:VEVENT
END:VCALENDAR