BEGIN:VCALENDAR
VERSION:2.0
PRODID:-//Tukios.com/
BEGIN:VEVENT
UID:38b36586-b3e1-425c-ad89-2403edb15f67@www.ardoinfuneralhome.com
DTSTAMP:20260420T053539Z
DTSTART:20260422T160000Z
DTEND:20260422T170000Z
SUMMARY:Celebration of Life
DESCRIPTION:
URL:https://www.ardoinfuneralhome.com/obituaries/david-dave-marcantel
LOCATION:Ardoin/Allen Parish Funeral Home of Kinder 432 North 8th Street  
	Kinder LA 70648
GEO:30.4882543;-92.8498617
END:VEVENT
END:VCALENDAR