BEGIN:VCALENDAR
VERSION:2.0
PRODID:-//Tukios.com/
BEGIN:VEVENT
UID:b724bee6-9b34-44cc-81aa-82f1916c2277@www.ardoinfuneralhome.com
DTSTAMP:20260420T230507Z
DTSTART:20260422T210000Z
DTEND:20260423T160000Z
SUMMARY:Visitation
DESCRIPTION:
URL:https://www.ardoinfuneralhome.com/obituaries/allie-paul-jr
LOCATION:Bethel Baptist Church 1769 Louisiana 462  Glenmora LA 71433
GEO:30.9217189;-92.7085798
END:VEVENT
END:VCALENDAR