BEGIN:VCALENDAR
VERSION:2.0
PRODID:-//Tukios.com/
BEGIN:VEVENT
UID:a903118b-3541-4f51-9390-6420cefdd4d5@www.ardoinfuneralhome.com
DTSTAMP:20260420T230420Z
DTSTART:20260423T160000Z
DTEND:20260423T170000Z
SUMMARY:Celebration of Life
DESCRIPTION:
URL:https://www.ardoinfuneralhome.com/obituaries/allie-paul-jr
LOCATION:Bethel Baptist Church 1769 Louisiana 462  Glenmora LA 71433
GEO:30.9217189;-92.7085798
END:VEVENT
END:VCALENDAR